BEGIN:VCALENDAR
PRODID:-//AT Content Types//AT Event//EN
VERSION:2.0
METHOD:PUBLISH
BEGIN:VEVENT
DTSTAMP:20260422T175519Z
CREATED:20250821T125800Z
UID:ATEvent-9509a0938e1041889206aa6e2615d1b2
LAST-MODIFIED:20250919T065434Z
SUMMARY:Mutscheln für alle
DTSTART:20260108T130000Z
DTEND:20260108T150000Z
DESCRIPTION:Gemeinsam Mutscheln im Café des Kulturparks Nord
LOCATION:habila Café im Kulturpark Reutlingen-Nord
CATEGORIES:Zweigstellen, Zweigstelle Rommelsbach
CLASS:PUBLIC
END:VEVENT
END:VCALENDAR
