BEGIN:VCALENDAR
PRODID:-//AT Content Types//AT Event//EN
VERSION:2.0
METHOD:PUBLISH
BEGIN:VEVENT
DTSTAMP:20260424T052545Z
CREATED:20260309T095225Z
UID:ATEvent-df2421780bdc4bf88c120605b42059f0
LAST-MODIFIED:20260309T095307Z
SUMMARY:Über den ganzen Menschen nachdenken – warum es sich lohnt
DTSTART:20260610T161500Z
DTEND:20260610T180000Z
DESCRIPTION:Pop-Up University - Das Studium Generale der Reutlinger Ho
 chschulen
LOCATION:Großes Studio
CATEGORIES:Hauptstelle, Erwachsenenbibliothek
CLASS:PUBLIC
END:VEVENT
END:VCALENDAR
