BEGIN:VCALENDAR
PRODID:-//AT Content Types//AT Event//EN
VERSION:1.0
BEGIN:VEVENT
DTSTART:20250626T150000Z
DTEND:20250626T160000Z
DCREATED:20250317T103904Z
UID:ATEvent-acd0ca3a57d54558b37586c55ccd1a5b
SEQUENCE:0
LAST-MODIFIED:20250317T105111Z
SUMMARY:Blaue Stunde
DESCRIPTION:Jeden Donnerstagnachmittag lesen Schauspieler/innen zur â€
 žBlauen Stundeâ€ś am "Ovalen Tisch" der Stadtbibliothek.
LOCATION:Ovaler Tisch (1.OG)
PRIORITY:3
TRANSP:0
END:VEVENT
END:VCALENDAR
